
BEGIN:VCALENDAR
VERSION:2.0
PRODID:-//Cast Cray Outdoors - ECPv6.14.0//NONSGML v1.0//EN
CALSCALE:GREGORIAN
METHOD:PUBLISH
X-WR-CALNAME:Cast Cray Outdoors
X-ORIGINAL-URL:https://castcray.com
X-WR-CALDESC:Events for Cast Cray Outdoors
REFRESH-INTERVAL;VALUE=DURATION:PT1H
X-Robots-Tag:noindex
X-PUBLISHED-TTL:PT1H
BEGIN:VTIMEZONE
TZID:America/Halifax
BEGIN:DAYLIGHT
TZOFFSETFROM:-0400
TZOFFSETTO:-0300
TZNAME:ADT
DTSTART:20260308T060000
END:DAYLIGHT
BEGIN:STANDARD
TZOFFSETFROM:-0300
TZOFFSETTO:-0400
TZNAME:AST
DTSTART:20261101T050000
END:STANDARD
END:VTIMEZONE
BEGIN:VEVENT
DTSTART;VALUE=DATE:20260411
DTEND;VALUE=DATE:20260413
DTSTAMP:20260421T112043
CREATED:20251217T154151Z
LAST-MODIFIED:20251217T154151Z
UID:30249-1775865600-1776038399@castcray.com
SUMMARY:Southern Ohio Hunting & Fishing EXPO
DESCRIPTION:
URL:https://castcray.com/event/southern-ohio-hunting-fishing-expo/
LOCATION:Mt Orab Sports Complex\, 600 Day Rd.\, Mt Orab\, OH\, 45154\, United States
ATTACH;FMTTYPE=image/png:https://castcray.com/wp-content/uploads/2025/12/image4-1-1.png
END:VEVENT
BEGIN:VEVENT
DTSTART;VALUE=DATE:20260411
DTEND;VALUE=DATE:20260413
DTSTAMP:20260421T112043
CREATED:20251222T213353Z
LAST-MODIFIED:20251222T213353Z
UID:30270-1775865600-1776038399@castcray.com
SUMMARY:Chico Outdoor Expo
DESCRIPTION:
URL:https://castcray.com/event/chico-outdoor-expo/
LOCATION:Westmoreland Fairgrounds\, 123 Blue Ribbon Lane\, Greensburg\, PA\, 15601\, United States
ATTACH;FMTTYPE=image/png:https://castcray.com/wp-content/uploads/2025/04/chico-small.png
END:VEVENT
END:VCALENDAR