
BEGIN:VCALENDAR
VERSION:2.0
PRODID:-//Cast Cray Outdoors - ECPv6.14.0//NONSGML v1.0//EN
CALSCALE:GREGORIAN
METHOD:PUBLISH
X-WR-CALNAME:Cast Cray Outdoors
X-ORIGINAL-URL:https://castcray.com
X-WR-CALDESC:Events for Cast Cray Outdoors
REFRESH-INTERVAL;VALUE=DURATION:PT1H
X-Robots-Tag:noindex
X-PUBLISHED-TTL:PT1H
BEGIN:VTIMEZONE
TZID:America/Halifax
BEGIN:DAYLIGHT
TZOFFSETFROM:-0400
TZOFFSETTO:-0300
TZNAME:ADT
DTSTART:20260308T060000
END:DAYLIGHT
BEGIN:STANDARD
TZOFFSETFROM:-0300
TZOFFSETTO:-0400
TZNAME:AST
DTSTART:20261101T050000
END:STANDARD
END:VTIMEZONE
BEGIN:VEVENT
DTSTART;TZID=America/Halifax:20260502T160000
DTEND;TZID=America/Halifax:20260502T170000
DTSTAMP:20260421T082622
CREATED:20260324T164204Z
LAST-MODIFIED:20260324T164204Z
UID:30801-1777737600-1777741200@castcray.com
SUMMARY:Cops and Bobbers with Perry Twp. Police Dept.
DESCRIPTION:May 11\, 5:30 to 7:30 p.m.\nPetros Lake Park\, 3519 Perry Dr SW\, Canton\, OH 44706 \nKids ages (3-15) are invited to join Perry Twp. Police Department for Cops & Bobbers!  Registration begins at 4 p.m. with fishing from 5:30 to 7:30 p.m. and prizes to follow! Fishing poles will be available while supplies last with free bait. There will be a variety of door prizes and concessions will be available for purchase (cash only). Perry Township Police Officers and Stark Parks Rangers will be present to help! Co-sponsored by Stark Parks\, Stark County Federation of Conservation Clubs\, Berkley Fishing\, North Industry Sportsman Club and the Ohio Department of Natural Resources Division of Wildlife.
URL:https://castcray.com/event/cops-and-bobbers-with-perry-twp-police-dept/
LOCATION:Petros Lake Park\, 3519 Perry Dr SW\, Canton\, OH\, 44706\, United States
END:VEVENT
END:VCALENDAR