
BEGIN:VCALENDAR
VERSION:2.0
PRODID:-//Cast Cray Outdoors - ECPv6.14.0//NONSGML v1.0//EN
CALSCALE:GREGORIAN
METHOD:PUBLISH
X-WR-CALNAME:Cast Cray Outdoors
X-ORIGINAL-URL:https://castcray.com
X-WR-CALDESC:Events for Cast Cray Outdoors
REFRESH-INTERVAL;VALUE=DURATION:PT1H
X-Robots-Tag:noindex
X-PUBLISHED-TTL:PT1H
BEGIN:VTIMEZONE
TZID:America/Halifax
BEGIN:DAYLIGHT
TZOFFSETFROM:-0400
TZOFFSETTO:-0300
TZNAME:ADT
DTSTART:20260308T060000
END:DAYLIGHT
BEGIN:STANDARD
TZOFFSETFROM:-0300
TZOFFSETTO:-0400
TZNAME:AST
DTSTART:20261101T050000
END:STANDARD
END:VTIMEZONE
BEGIN:VEVENT
DTSTART;VALUE=DATE:20260228
DTEND;VALUE=DATE:20260302
DTSTAMP:20260421T065947
CREATED:20251031T133607Z
LAST-MODIFIED:20251031T133607Z
UID:30055-1772236800-1772409599@castcray.com
SUMMARY:Ohio River Hunting & Fishing Expo
DESCRIPTION:
URL:https://castcray.com/event/ohio-river-hunting-fishing-expo-2/
LOCATION:Washington County Fairgrounds\, 922 Front St\, Marietta\, Ohio
ATTACH;FMTTYPE=image/jpeg:https://castcray.com/wp-content/uploads/2025/10/568560164_122149067606651135_1270520725951034395_n.jpg
END:VEVENT
BEGIN:VEVENT
DTSTART;TZID=America/Halifax:20260307T083000
DTEND;TZID=America/Halifax:20260307T170000
DTSTAMP:20260421T065947
CREATED:20260217T140901Z
LAST-MODIFIED:20260217T140901Z
UID:30611-1772872200-1772902800@castcray.com
SUMMARY:Ravenna Marine Open House / Seminar
DESCRIPTION:
URL:https://castcray.com/event/ravenna-marine-open-house-seminar/
LOCATION:Ravenna Marine\, 1366 E. Main St.\, Ravenna\, OH\, 44266\, United States
ATTACH;FMTTYPE=image/jpeg:https://castcray.com/wp-content/uploads/2026/02/627679727_1727221412066082_7569384926985310763_n.jpg
END:VEVENT
BEGIN:VEVENT
DTSTART;TZID=America/Halifax:20260313T080000
DTEND;TZID=America/Halifax:20260315T170000
DTSTAMP:20260421T065947
CREATED:20251009T142653Z
LAST-MODIFIED:20251009T142653Z
UID:30021-1773388800-1773594000@castcray.com
SUMMARY:JDM Fishing & Outdoor Show
DESCRIPTION:
URL:https://castcray.com/event/jdm-fishing-outdoor-show-2/
LOCATION:Summit County Fairgrounds\, 1050 North Ave\, Tallmadge\, 44278\, United States
ATTACH;FMTTYPE=image/avif:https://castcray.com/wp-content/uploads/2025/10/JDM-Show-Logo.avif
END:VEVENT
BEGIN:VEVENT
DTSTART;TZID=America/Halifax:20260328T070000
DTEND;TZID=America/Halifax:20260328T120000
DTSTAMP:20260421T065947
CREATED:20260226T010403Z
LAST-MODIFIED:20260226T010403Z
UID:30673-1774681200-1774699200@castcray.com
SUMMARY:4th Annual Cast Cray Crappie Dock Slinger Fest!
DESCRIPTION:
URL:https://castcray.com/event/4th-annual-cast-cray-crappie-dock-slinger-fest/
LOCATION:Mosquito Lake Marina Docks
ATTACH;FMTTYPE=image/jpeg:https://castcray.com/wp-content/uploads/2026/02/DOCK-SLINGER-FEST-copy-scaled.jpg
END:VEVENT
END:VCALENDAR